BEGIN:VCALENDAR
VERSION:2.0
PRODID:-//Habitat for Humanity - ECPv6.1.3//NONSGML v1.0//EN
CALSCALE:GREGORIAN
METHOD:PUBLISH
X-ORIGINAL-URL:https://esthfh.org
X-WR-CALDESC:Events for Habitat for Humanity
REFRESH-INTERVAL;VALUE=DURATION:PT1H
X-Robots-Tag:noindex
X-PUBLISHED-TTL:PT1H
BEGIN:VTIMEZONE
TZID:America/New_York
BEGIN:DAYLIGHT
TZOFFSETFROM:-0500
TZOFFSETTO:-0400
TZNAME:EDT
DTSTART:20250309T070000
END:DAYLIGHT
BEGIN:STANDARD
TZOFFSETFROM:-0400
TZOFFSETTO:-0500
TZNAME:EST
DTSTART:20251102T060000
END:STANDARD
END:VTIMEZONE
BEGIN:VEVENT
DTSTART;TZID=America/New_York:20250626T160000
DTEND;TZID=America/New_York:20250626T183000
DTSTAMP:20260421T145211
CREATED:20250407T212633Z
LAST-MODIFIED:20250407T212633Z
UID:1512-1750953600-1750962600@esthfh.org
SUMMARY:Homeownership Expo 2025
DESCRIPTION:Join us at the Slidell Municipal Auditorium for the Homeownership Expo! June 26th will be a day filled with everything you need to know about owning your dream home. Whether you’re a first-time buyer\, or looking into purchasing rental or investment properties\, this event is perfect for you. Learn from experts in the field\, explore financing options\, and discover the latest trends in home design. Don’t miss out on this fantastic opportunity to take the first step towards homeownership! The event is FREE! \nWhen:  Thursday June 26\, 2025 \nTime:    4:00PM TO 6:30PM \nLocation:  Slidell Auditorium \nPresented by:
URL:https://esthfh.org/event/homeownership-expo-2025/
LOCATION:Slidell Auditorium\, 2056 2nd Street\, Slidell\, LA\, 70458\, United States
ATTACH;FMTTYPE=image/png:https://esthfh.org/wp-content/uploads/2025/04/East-st-tammany-Habitat-for-humanity-home-ownership-expo-2025-1.png
END:VEVENT
END:VCALENDAR