BEGIN:VCALENDAR
VERSION:2.0
PRODID:-//Habitat for Humanity - ECPv6.1.3//NONSGML v1.0//EN
CALSCALE:GREGORIAN
METHOD:PUBLISH
X-WR-CALNAME:Habitat for Humanity
X-ORIGINAL-URL:https://esthfh.org
X-WR-CALDESC:Events for Habitat for Humanity
REFRESH-INTERVAL;VALUE=DURATION:PT1H
X-Robots-Tag:noindex
X-PUBLISHED-TTL:PT1H
BEGIN:VTIMEZONE
TZID:America/New_York
BEGIN:DAYLIGHT
TZOFFSETFROM:-0500
TZOFFSETTO:-0400
TZNAME:EDT
DTSTART:20240310T070000
END:DAYLIGHT
BEGIN:STANDARD
TZOFFSETFROM:-0400
TZOFFSETTO:-0500
TZNAME:EST
DTSTART:20241103T060000
END:STANDARD
BEGIN:DAYLIGHT
TZOFFSETFROM:-0500
TZOFFSETTO:-0400
TZNAME:EDT
DTSTART:20250309T070000
END:DAYLIGHT
BEGIN:STANDARD
TZOFFSETFROM:-0400
TZOFFSETTO:-0500
TZNAME:EST
DTSTART:20251102T060000
END:STANDARD
END:VTIMEZONE
BEGIN:VEVENT
DTSTART;TZID=America/New_York:20241224T080000
DTEND;TZID=America/New_York:20250102T170000
DTSTAMP:20260423T200445
CREATED:20240815T165230Z
LAST-MODIFIED:20240815T165230Z
UID:1288-1735027200-1735837200@esthfh.org
SUMMARY:Merry Christmas - The Office is Closed
DESCRIPTION:Wishing you and yours a very Merry Christmas. \nThe office will be closed from December 25\, 2024\, through January 2\, 2025. \nIf you need assistance\, please leave a message at 985-639-0656
URL:https://esthfh.org/event/merry-christmas-the-office-is-closed/
LOCATION:LA
ATTACH;FMTTYPE=image/png:https://esthfh.org/wp-content/uploads/2024/08/12-1.png
END:VEVENT
BEGIN:VEVENT
DTSTART;TZID=America/New_York:20250101T080000
DTEND;TZID=America/New_York:20250101T170000
DTSTAMP:20260423T200445
CREATED:20240815T163922Z
LAST-MODIFIED:20240815T163922Z
UID:1274-1735718400-1735750800@esthfh.org
SUMMARY:Happy New Year - The Office is Closed
DESCRIPTION:The office is closed January 1\, 2025
URL:https://esthfh.org/event/happy-new-year-the-office-is-closed/
LOCATION:LA
ATTACH;FMTTYPE=image/png:https://esthfh.org/wp-content/uploads/2024/08/4-1.png
END:VEVENT
BEGIN:VEVENT
DTSTART;TZID=America/New_York:20250117T190000
DTEND;TZID=America/New_York:20250117T230000
DTSTAMP:20260423T200445
CREATED:20240813T181821Z
LAST-MODIFIED:20240813T181821Z
UID:1152-1737140400-1737154800@esthfh.org
SUMMARY:2025 Builder's Ball
DESCRIPTION:Save the date for our annual Builder’s Ball gala: January 17\, 2025\, at the Slidell Auditorium. \nEvery year\, we honor and recognize local companies and people who make a difference at East St. Tammany Parsish Habitat for Humanity. \nSponsorships and ticket sales ~ COMING SOON!
URL:https://esthfh.org/event/2025-builders-ball/
LOCATION:Slidell Auditorium\, 2056 2nd Street\, Slidell\, LA\, 70458\, United States
ATTACH;FMTTYPE=image/png:https://esthfh.org/wp-content/uploads/2024/08/Builders-Ball-20252160-x-1080-px.png
END:VEVENT
BEGIN:VEVENT
DTSTART;TZID=America/New_York:20250121T080000
DTEND;TZID=America/New_York:20250121T170000
DTSTAMP:20260423T200445
CREATED:20240815T164055Z
LAST-MODIFIED:20240815T164055Z
UID:1280-1737446400-1737478800@esthfh.org
SUMMARY:Martin Luther King Jr. Day - The Office is Closed
DESCRIPTION:Sorry\, the office is closed in observance of MLK Day.
URL:https://esthfh.org/event/martin-luther-king-jr-day-the-office-is-closed/
LOCATION:LA
END:VEVENT
END:VCALENDAR