BEGIN:VCALENDAR
VERSION:2.0
PRODID:-//Habitat for Humanity - ECPv6.1.3//NONSGML v1.0//EN
CALSCALE:GREGORIAN
METHOD:PUBLISH
X-ORIGINAL-URL:https://esthfh.org
X-WR-CALDESC:Events for Habitat for Humanity
REFRESH-INTERVAL;VALUE=DURATION:PT1H
X-Robots-Tag:noindex
X-PUBLISHED-TTL:PT1H
BEGIN:VTIMEZONE
TZID:America/New_York
BEGIN:DAYLIGHT
TZOFFSETFROM:-0500
TZOFFSETTO:-0400
TZNAME:EDT
DTSTART:20240310T070000
END:DAYLIGHT
BEGIN:STANDARD
TZOFFSETFROM:-0400
TZOFFSETTO:-0500
TZNAME:EST
DTSTART:20241103T060000
END:STANDARD
END:VTIMEZONE
BEGIN:VEVENT
DTSTART;TZID=America/New_York:20240824T090000
DTEND;TZID=America/New_York:20240824T130000
DTSTAMP:20260425T184221
CREATED:20240812T205351Z
LAST-MODIFIED:20240812T212118Z
UID:1131-1724490000-1724504400@esthfh.org
SUMMARY:2024 We Will Leave a Legacy
DESCRIPTION:We are on a mission to help families for generations by preparing FREE simple wills and healthcare POAs. \nLimited spots\, call 985-639-0656 to see if there are any spots left. \nJoin Us on August 24\, 2024 \nRequirments:\nTo be considered to participate in the 2024 Summer “We WILL Leave a Legacy” event you must:\n– Own real estate property (Land or a house)\n– Have household income less than 80% of the area Median Income\n– Own assets valued under $250K including bank accounts\, investment accounts\, etc.\n– Be available to complete the will questionnaire and any pre-event sessions \nContact Theata Mason at tmason@estthfh.org for more information. \n* All wills are prepared by a licensed attorney. *
URL:https://esthfh.org/event/2024-we-will-leave-a-legacy/
LOCATION:Towers Building\, 520 Old Spanish Trail\, 1st Floor\, Slidell\, LA\, 70458\, United States
ATTACH;FMTTYPE=image/png:https://esthfh.org/wp-content/uploads/2024/08/ESTHFH-Legacy.png
END:VEVENT
END:VCALENDAR