BEGIN:VCALENDAR
VERSION:2.0
PRODID:-//Habitat for Humanity - ECPv6.1.3//NONSGML v1.0//EN
CALSCALE:GREGORIAN
METHOD:PUBLISH
X-WR-CALNAME:Habitat for Humanity
X-ORIGINAL-URL:https://esthfh.org
X-WR-CALDESC:Events for Habitat for Humanity
REFRESH-INTERVAL;VALUE=DURATION:PT1H
X-Robots-Tag:noindex
X-PUBLISHED-TTL:PT1H
BEGIN:VTIMEZONE
TZID:America/New_York
BEGIN:DAYLIGHT
TZOFFSETFROM:-0500
TZOFFSETTO:-0400
TZNAME:EDT
DTSTART:20210314T070000
END:DAYLIGHT
BEGIN:STANDARD
TZOFFSETFROM:-0400
TZOFFSETTO:-0500
TZNAME:EST
DTSTART:20211107T060000
END:STANDARD
END:VTIMEZONE
BEGIN:VEVENT
DTSTART;TZID=America/New_York:20210424T090000
DTEND;TZID=America/New_York:20210424T120000
DTSTAMP:20260422T183139
CREATED:20210421T014241Z
LAST-MODIFIED:20210421T014241Z
UID:605-1619254800-1619265600@esthfh.org
SUMMARY:Rosies to the Recuse
DESCRIPTION:East St. Habitat for Humanity  Women Build Rosies are partnering with Keeping Slidell Beautiful for its Spring city wide clean-up event.
URL:https://esthfh.org/event/rosies-to-the-recuse/
LOCATION:Heritage Park\, 1701 Bayou Lane\, Slidell\, 70458\, United States
END:VEVENT
END:VCALENDAR