BEGIN:VCALENDAR
VERSION:2.0
PRODID:-//Habitat for Humanity - ECPv6.1.3//NONSGML v1.0//EN
CALSCALE:GREGORIAN
METHOD:PUBLISH
X-ORIGINAL-URL:https://esthfh.org
X-WR-CALDESC:Events for Habitat for Humanity
REFRESH-INTERVAL;VALUE=DURATION:PT1H
X-Robots-Tag:noindex
X-PUBLISHED-TTL:PT1H
BEGIN:VTIMEZONE
TZID:America/New_York
BEGIN:DAYLIGHT
TZOFFSETFROM:-0500
TZOFFSETTO:-0400
TZNAME:EDT
DTSTART:20250309T070000
END:DAYLIGHT
BEGIN:STANDARD
TZOFFSETFROM:-0400
TZOFFSETTO:-0500
TZNAME:EST
DTSTART:20251102T060000
END:STANDARD
END:VTIMEZONE
BEGIN:VEVENT
DTSTART;TZID=America/New_York:20251111T173000
DTEND;TZID=America/New_York:20251111T183000
DTSTAMP:20260421T175602
CREATED:20251031T202302Z
LAST-MODIFIED:20251105T144421Z
UID:1697-1762882200-1762885800@esthfh.org
SUMMARY:Homeowners and Flood Insurance Workshop
DESCRIPTION:Join East St. Tammany Habitat for Humanity for an informative Homeowners and Flood Insurance Workshop presented by Ronnie Maxsoe and Luke Storey of Maxsoe Insurance Agency. \nWhether you’re a current homeowner or preparing to buy your first home\, this free session will help you understand how to get the best residential insurance quotes and make sure your property is fully protected. Learn about recent updates in flood and homeowners insurance\, what factors affect your rates\, and tips to ensure you’re getting the coverage you need at the best value. \nBring your questions and gain expert insight to make informed decisions about protecting your home and investment. \nDate: November 11\, 2025\nTime: 5:30 PM – 6:30 PM\nLocation: E.S.T.H.F.H.\, 360 Robert Rd.\, Slidell\, LA 70458\nCost: Free\nAdmission: Free and open to the public \nTo register\, please visit: https://esthfh.charityproud.org
URL:https://esthfh.org/event/homeowners-and-flood-insurance-workshop/
LOCATION:East St. Tammany Habitat for Humanity Office\, 360 Robert Blvd\, Slidell\, LA\, 70461\, United States
ATTACH;FMTTYPE=image/png:https://esthfh.org/wp-content/uploads/2025/11/Homeowners-and-Flood-Insurance-Website-Slider.png
END:VEVENT
END:VCALENDAR