BEGIN:VCALENDAR
VERSION:2.0
PRODID:-//Habitat for Humanity - ECPv6.1.3//NONSGML v1.0//EN
CALSCALE:GREGORIAN
METHOD:PUBLISH
X-WR-CALNAME:Habitat for Humanity
X-ORIGINAL-URL:https://esthfh.org
X-WR-CALDESC:Events for Habitat for Humanity
REFRESH-INTERVAL;VALUE=DURATION:PT1H
X-Robots-Tag:noindex
X-PUBLISHED-TTL:PT1H
BEGIN:VTIMEZONE
TZID:America/New_York
BEGIN:DAYLIGHT
TZOFFSETFROM:-0500
TZOFFSETTO:-0400
TZNAME:EDT
DTSTART:20240310T070000
END:DAYLIGHT
BEGIN:STANDARD
TZOFFSETFROM:-0400
TZOFFSETTO:-0500
TZNAME:EST
DTSTART:20241103T060000
END:STANDARD
END:VTIMEZONE
BEGIN:VEVENT
DTSTART;VALUE=DATE:20241001
DTEND;VALUE=DATE:20241101
DTSTAMP:20260425T092225
CREATED:20240813T190459Z
LAST-MODIFIED:20240813T190459Z
UID:1167-1727740800-1730419199@esthfh.org
SUMMARY:2024 Women Build
DESCRIPTION:2024 Women Build will run through the month of October. \nCall 985-639-0656 to learn more and info on how to join a team. \nNew Rosies need to schedule their slot to get their picture taken as the iconic Rosie the Riveter.  Photo shoots start Sunday\, August 18\, 2024 from 12 – 3 PM. Please be sure to bring a long-sleeved blue shirt that can be rolled up to expose their bicep. There is a mandatory $50 deposit required at the photo shoot. The $50 will be applied to the $500 each Rosie is responsible for raising. \nPhoto Shoot Dates: \nSunday\, August 18 – 12 – 3 PM \nMonday\, August 26 – 4:30 – 6:30 PM \nTuesday\, September 10 – 4:30 – 6:30 PM \nThursday\, September 19 – 4:30 – 6:30 PM
URL:https://esthfh.org/event/2024-women-build/
LOCATION:East St. Tammany Habitat for Humanity Office\, 360 Robert Blvd\, Slidell\, LA\, 70461\, United States
ATTACH;FMTTYPE=image/png:https://esthfh.org/wp-content/uploads/2024/08/Women-Build-2024.png
END:VEVENT
END:VCALENDAR